BEGIN:VCALENDAR
VERSION:2.0
PRODID:https://www.kufer.de/kuferweb / DE
METHOD:PUBLISH
CALSCALE:GREGORIAN
X-WR-TIMEZONE:Europe/Berlin
BEGIN:VTIMEZONE
TZID:Europe/Berlin
X-LIC-LOCATION:Europe/Berlin
BEGIN:DAYLIGHT
TZOFFSETFROM:+0100
TZOFFSETTO:+0200
TZNAME:CEST
DTSTART:19700329T020000
RRULE:FREQ=YEARLY;INTERVAL=1;BYDAY=-1SU;BYMONTH=3
END:DAYLIGHT
BEGIN:STANDARD
TZOFFSETFROM:+0200
TZOFFSETTO:+0100
TZNAME:CET
DTSTART:19701025T030000
RRULE:FREQ=YEARLY;INTERVAL=1;BYDAY=-1SU;BYMONTH=10
END:STANDARD
END:VTIMEZONE
BEGIN:VEVENT
DTSTAMP:20260423T202919
DTSTART;TZID=Europe/Berlin:20270304T083000
DTEND;TZID=Europe/Berlin:20270304T123500
UID:27131203-20270304T083000@VHSBERGISCH-LAND
SUMMARY:Integrationskurs mit Alphabetisierung - Orientierungskurs (27131203) 
LOCATION:Leichlingen; Pfarrheim kath. Kirchengemeinde; Raum 1, Ludger-Kühler-Straße 1, 42799 Leichlingen
END:VEVENT
BEGIN:VEVENT
DTSTAMP:20260423T202919
DTSTART;TZID=Europe/Berlin:20270305T083000
DTEND;TZID=Europe/Berlin:20270305T123500
UID:27131203-20270305T083000@VHSBERGISCH-LAND
SUMMARY:Integrationskurs mit Alphabetisierung - Orientierungskurs (27131203) 
LOCATION:Leichlingen; Pfarrheim kath. Kirchengemeinde; Raum 1, Ludger-Kühler-Straße 1, 42799 Leichlingen
END:VEVENT
BEGIN:VEVENT
DTSTAMP:20260423T202919
DTSTART;TZID=Europe/Berlin:20270308T083000
DTEND;TZID=Europe/Berlin:20270308T123500
UID:27131203-20270308T083000@VHSBERGISCH-LAND
SUMMARY:Integrationskurs mit Alphabetisierung - Orientierungskurs (27131203) 
LOCATION:Leichlingen; Pfarrheim kath. Kirchengemeinde; Raum 1, Ludger-Kühler-Straße 1, 42799 Leichlingen
END:VEVENT
BEGIN:VEVENT
DTSTAMP:20260423T202919
DTSTART;TZID=Europe/Berlin:20270309T083000
DTEND;TZID=Europe/Berlin:20270309T123500
UID:27131203-20270309T083000@VHSBERGISCH-LAND
SUMMARY:Integrationskurs mit Alphabetisierung - Orientierungskurs (27131203) 
LOCATION:Leichlingen; Pfarrheim kath. Kirchengemeinde; Raum 1, Ludger-Kühler-Straße 1, 42799 Leichlingen
END:VEVENT
BEGIN:VEVENT
DTSTAMP:20260423T202919
DTSTART;TZID=Europe/Berlin:20270311T083000
DTEND;TZID=Europe/Berlin:20270311T123500
UID:27131203-20270311T083000@VHSBERGISCH-LAND
SUMMARY:Integrationskurs mit Alphabetisierung - Orientierungskurs (27131203) 
LOCATION:Leichlingen; Pfarrheim kath. Kirchengemeinde; Raum 1, Ludger-Kühler-Straße 1, 42799 Leichlingen
END:VEVENT
BEGIN:VEVENT
DTSTAMP:20260423T202919
DTSTART;TZID=Europe/Berlin:20270312T083000
DTEND;TZID=Europe/Berlin:20270312T123500
UID:27131203-20270312T083000@VHSBERGISCH-LAND
SUMMARY:Integrationskurs mit Alphabetisierung - Orientierungskurs (27131203) 
LOCATION:Leichlingen; Pfarrheim kath. Kirchengemeinde; Raum 1, Ludger-Kühler-Straße 1, 42799 Leichlingen
END:VEVENT
BEGIN:VEVENT
DTSTAMP:20260423T202919
DTSTART;TZID=Europe/Berlin:20270315T083000
DTEND;TZID=Europe/Berlin:20270315T123500
UID:27131203-20270315T083000@VHSBERGISCH-LAND
SUMMARY:Integrationskurs mit Alphabetisierung - Orientierungskurs (27131203) 
LOCATION:Leichlingen; Pfarrheim kath. Kirchengemeinde; Raum 1, Ludger-Kühler-Straße 1, 42799 Leichlingen
END:VEVENT
BEGIN:VEVENT
DTSTAMP:20260423T202919
DTSTART;TZID=Europe/Berlin:20270316T083000
DTEND;TZID=Europe/Berlin:20270316T123500
UID:27131203-20270316T083000@VHSBERGISCH-LAND
SUMMARY:Integrationskurs mit Alphabetisierung - Orientierungskurs (27131203) 
LOCATION:Leichlingen; Pfarrheim kath. Kirchengemeinde; Raum 1, Ludger-Kühler-Straße 1, 42799 Leichlingen
END:VEVENT
BEGIN:VEVENT
DTSTAMP:20260423T202919
DTSTART;TZID=Europe/Berlin:20270318T083000
DTEND;TZID=Europe/Berlin:20270318T123500
UID:27131203-20270318T083000@VHSBERGISCH-LAND
SUMMARY:Integrationskurs mit Alphabetisierung - Orientierungskurs (27131203) 
LOCATION:Leichlingen; Pfarrheim kath. Kirchengemeinde; Raum 1, Ludger-Kühler-Straße 1, 42799 Leichlingen
END:VEVENT
BEGIN:VEVENT
DTSTAMP:20260423T202919
DTSTART;TZID=Europe/Berlin:20270319T083000
DTEND;TZID=Europe/Berlin:20270319T123500
UID:27131203-20270319T083000@VHSBERGISCH-LAND
SUMMARY:Integrationskurs mit Alphabetisierung - Orientierungskurs (27131203) 
LOCATION:Leichlingen; Pfarrheim kath. Kirchengemeinde; Raum 1, Ludger-Kühler-Straße 1, 42799 Leichlingen
END:VEVENT
BEGIN:VEVENT
DTSTAMP:20260423T202919
DTSTART;TZID=Europe/Berlin:20270405T083000
DTEND;TZID=Europe/Berlin:20270405T123500
UID:27131203-20270405T083000@VHSBERGISCH-LAND
SUMMARY:Integrationskurs mit Alphabetisierung - Orientierungskurs (27131203) 
LOCATION:Leichlingen; Pfarrheim kath. Kirchengemeinde; Raum 1, Ludger-Kühler-Straße 1, 42799 Leichlingen
END:VEVENT
BEGIN:VEVENT
DTSTAMP:20260423T202919
DTSTART;TZID=Europe/Berlin:20270406T083000
DTEND;TZID=Europe/Berlin:20270406T123500
UID:27131203-20270406T083000@VHSBERGISCH-LAND
SUMMARY:Integrationskurs mit Alphabetisierung - Orientierungskurs (27131203) 
LOCATION:Leichlingen; Pfarrheim kath. Kirchengemeinde; Raum 1, Ludger-Kühler-Straße 1, 42799 Leichlingen
END:VEVENT
BEGIN:VEVENT
DTSTAMP:20260423T202919
DTSTART;TZID=Europe/Berlin:20270408T083000
DTEND;TZID=Europe/Berlin:20270408T123500
UID:27131203-20270408T083000@VHSBERGISCH-LAND
SUMMARY:Integrationskurs mit Alphabetisierung - Orientierungskurs (27131203) 
LOCATION:Leichlingen; Pfarrheim kath. Kirchengemeinde; Raum 1, Ludger-Kühler-Straße 1, 42799 Leichlingen
END:VEVENT
BEGIN:VEVENT
DTSTAMP:20260423T202919
DTSTART;TZID=Europe/Berlin:20270409T083000
DTEND;TZID=Europe/Berlin:20270409T123500
UID:27131203-20270409T083000@VHSBERGISCH-LAND
SUMMARY:Integrationskurs mit Alphabetisierung - Orientierungskurs (27131203) 
LOCATION:Leichlingen; Pfarrheim kath. Kirchengemeinde; Raum 1, Ludger-Kühler-Straße 1, 42799 Leichlingen
END:VEVENT
BEGIN:VEVENT
DTSTAMP:20260423T202919
DTSTART;TZID=Europe/Berlin:20270412T083000
DTEND;TZID=Europe/Berlin:20270412T123500
UID:27131203-20270412T083000@VHSBERGISCH-LAND
SUMMARY:Integrationskurs mit Alphabetisierung - Orientierungskurs (27131203) 
LOCATION:Leichlingen; Pfarrheim kath. Kirchengemeinde; Raum 1, Ludger-Kühler-Straße 1, 42799 Leichlingen
END:VEVENT
BEGIN:VEVENT
DTSTAMP:20260423T202919
DTSTART;TZID=Europe/Berlin:20270413T083000
DTEND;TZID=Europe/Berlin:20270413T123500
UID:27131203-20270413T083000@VHSBERGISCH-LAND
SUMMARY:Integrationskurs mit Alphabetisierung - Orientierungskurs (27131203) 
LOCATION:Leichlingen; Pfarrheim kath. Kirchengemeinde; Raum 1, Ludger-Kühler-Straße 1, 42799 Leichlingen
END:VEVENT
BEGIN:VEVENT
DTSTAMP:20260423T202919
DTSTART;TZID=Europe/Berlin:20270415T083000
DTEND;TZID=Europe/Berlin:20270415T123500
UID:27131203-20270415T083000@VHSBERGISCH-LAND
SUMMARY:Integrationskurs mit Alphabetisierung - Orientierungskurs (27131203) 
LOCATION:Leichlingen; Pfarrheim kath. Kirchengemeinde; Raum 1, Ludger-Kühler-Straße 1, 42799 Leichlingen
END:VEVENT
BEGIN:VEVENT
DTSTAMP:20260423T202919
DTSTART;TZID=Europe/Berlin:20270416T083000
DTEND;TZID=Europe/Berlin:20270416T123500
UID:27131203-20270416T083000@VHSBERGISCH-LAND
SUMMARY:Integrationskurs mit Alphabetisierung - Orientierungskurs (27131203) 
LOCATION:Leichlingen; Pfarrheim kath. Kirchengemeinde; Raum 1, Ludger-Kühler-Straße 1, 42799 Leichlingen
END:VEVENT
BEGIN:VEVENT
DTSTAMP:20260423T202919
DTSTART;TZID=Europe/Berlin:20270419T083000
DTEND;TZID=Europe/Berlin:20270419T123500
UID:27131203-20270419T083000@VHSBERGISCH-LAND
SUMMARY:Integrationskurs mit Alphabetisierung - Orientierungskurs (27131203) 
LOCATION:Leichlingen; Pfarrheim kath. Kirchengemeinde; Raum 1, Ludger-Kühler-Straße 1, 42799 Leichlingen
END:VEVENT
BEGIN:VEVENT
DTSTAMP:20260423T202919
DTSTART;TZID=Europe/Berlin:20270420T083000
DTEND;TZID=Europe/Berlin:20270420T123500
UID:27131203-20270420T083000@VHSBERGISCH-LAND
SUMMARY:Integrationskurs mit Alphabetisierung - Orientierungskurs (27131203) 
LOCATION:Leichlingen; Pfarrheim kath. Kirchengemeinde; Raum 1, Ludger-Kühler-Straße 1, 42799 Leichlingen
END:VEVENT
END:VCALENDAR