BEGIN:VCALENDAR
VERSION:2.0
PRODID:https://www.kufer.de/kuferweb / DE
METHOD:PUBLISH
CALSCALE:GREGORIAN
X-WR-TIMEZONE:Europe/Berlin
BEGIN:VTIMEZONE
TZID:Europe/Berlin
X-LIC-LOCATION:Europe/Berlin
BEGIN:DAYLIGHT
TZOFFSETFROM:+0100
TZOFFSETTO:+0200
TZNAME:CEST
DTSTART:19700329T020000
RRULE:FREQ=YEARLY;INTERVAL=1;BYDAY=-1SU;BYMONTH=3
END:DAYLIGHT
BEGIN:STANDARD
TZOFFSETFROM:+0200
TZOFFSETTO:+0100
TZNAME:CET
DTSTART:19701025T030000
RRULE:FREQ=YEARLY;INTERVAL=1;BYDAY=-1SU;BYMONTH=10
END:STANDARD
END:VTIMEZONE
BEGIN:VEVENT
DTSTAMP:20260421T011720
DTSTART;TZID=Europe/Berlin:20270628T090000
DTEND;TZID=Europe/Berlin:20270628T160000
UID:27121120B-20270628T090000@VHSBERGISCH-LAND
SUMMARY:Bildungsurlaub: Wander-Coaching im Bergischen Land – Bildungsurlaub für Klarheit, Stärke und Balance. (27121120B) 
LOCATION:Wermelskirchen; VHS-Zentrale; Raum B1.01 / Küche, Schillerstraße 9, 42929 Wermelskirchen
END:VEVENT
BEGIN:VEVENT
DTSTAMP:20260421T011720
DTSTART;TZID=Europe/Berlin:20270629T090000
DTEND;TZID=Europe/Berlin:20270629T160000
UID:27121120B-20270629T090000@VHSBERGISCH-LAND
SUMMARY:Bildungsurlaub: Wander-Coaching im Bergischen Land – Bildungsurlaub für Klarheit, Stärke und Balance. (27121120B) 
LOCATION:Wermelskirchen; VHS-Zentrale; Raum B1.01 / Küche, Schillerstraße 9, 42929 Wermelskirchen
END:VEVENT
BEGIN:VEVENT
DTSTAMP:20260421T011720
DTSTART;TZID=Europe/Berlin:20270630T090000
DTEND;TZID=Europe/Berlin:20270630T160000
UID:27121120B-20270630T090000@VHSBERGISCH-LAND
SUMMARY:Bildungsurlaub: Wander-Coaching im Bergischen Land – Bildungsurlaub für Klarheit, Stärke und Balance. (27121120B) 
LOCATION:Wermelskirchen; VHS-Zentrale; Raum B1.01 / Küche, Schillerstraße 9, 42929 Wermelskirchen
END:VEVENT
BEGIN:VEVENT
DTSTAMP:20260421T011720
DTSTART;TZID=Europe/Berlin:20270701T090000
DTEND;TZID=Europe/Berlin:20270701T160000
UID:27121120B-20270701T090000@VHSBERGISCH-LAND
SUMMARY:Bildungsurlaub: Wander-Coaching im Bergischen Land – Bildungsurlaub für Klarheit, Stärke und Balance. (27121120B) 
LOCATION:Wermelskirchen; VHS-Zentrale; Raum B1.01 / Küche, Schillerstraße 9, 42929 Wermelskirchen
END:VEVENT
BEGIN:VEVENT
DTSTAMP:20260421T011720
DTSTART;TZID=Europe/Berlin:20270702T090000
DTEND;TZID=Europe/Berlin:20270702T160000
UID:27121120B-20270702T090000@VHSBERGISCH-LAND
SUMMARY:Bildungsurlaub: Wander-Coaching im Bergischen Land – Bildungsurlaub für Klarheit, Stärke und Balance. (27121120B) 
LOCATION:Wermelskirchen; VHS-Zentrale; Raum B1.01 / Küche, Schillerstraße 9, 42929 Wermelskirchen
END:VEVENT
END:VCALENDAR