BEGIN:VCALENDAR
VERSION:2.0
PRODID:https://www.kufer.de/kuferweb / DE
METHOD:PUBLISH
CALSCALE:GREGORIAN
X-WR-TIMEZONE:Europe/Berlin
BEGIN:VTIMEZONE
TZID:Europe/Berlin
X-LIC-LOCATION:Europe/Berlin
BEGIN:DAYLIGHT
TZOFFSETFROM:+0100
TZOFFSETTO:+0200
TZNAME:CEST
DTSTART:19700329T020000
RRULE:FREQ=YEARLY;INTERVAL=1;BYDAY=-1SU;BYMONTH=3
END:DAYLIGHT
BEGIN:STANDARD
TZOFFSETFROM:+0200
TZOFFSETTO:+0100
TZNAME:CET
DTSTART:19701025T030000
RRULE:FREQ=YEARLY;INTERVAL=1;BYDAY=-1SU;BYMONTH=10
END:STANDARD
END:VTIMEZONE
BEGIN:VEVENT
DTSTAMP:20260420T235636
DTSTART;TZID=Europe/Berlin:20270830T090000
DTEND;TZID=Europe/Berlin:20270830T160000
UID:27121100B-20270830T090000@VHSBERGISCH-LAND
SUMMARY:Bildungsurlaub: Neue Perspektiven - Wandercoaching für Menschen 55+ im Bergischen Land (27121100B) 
LOCATION:Burscheid; Pastor-Löh-Haus; Raum 8, Höhestr. 48, 51399 Burscheid
END:VEVENT
BEGIN:VEVENT
DTSTAMP:20260420T235636
DTSTART;TZID=Europe/Berlin:20270831T090000
DTEND;TZID=Europe/Berlin:20270831T160000
UID:27121100B-20270831T090000@VHSBERGISCH-LAND
SUMMARY:Bildungsurlaub: Neue Perspektiven - Wandercoaching für Menschen 55+ im Bergischen Land (27121100B) 
LOCATION:Burscheid; Pastor-Löh-Haus; Raum 8, Höhestr. 48, 51399 Burscheid
END:VEVENT
BEGIN:VEVENT
DTSTAMP:20260420T235636
DTSTART;TZID=Europe/Berlin:20270901T090000
DTEND;TZID=Europe/Berlin:20270901T160000
UID:27121100B-20270901T090000@VHSBERGISCH-LAND
SUMMARY:Bildungsurlaub: Neue Perspektiven - Wandercoaching für Menschen 55+ im Bergischen Land (27121100B) 
LOCATION:Burscheid; Pastor-Löh-Haus; Raum 8, Höhestr. 48, 51399 Burscheid
END:VEVENT
BEGIN:VEVENT
DTSTAMP:20260420T235636
DTSTART;TZID=Europe/Berlin:20270902T090000
DTEND;TZID=Europe/Berlin:20270902T160000
UID:27121100B-20270902T090000@VHSBERGISCH-LAND
SUMMARY:Bildungsurlaub: Neue Perspektiven - Wandercoaching für Menschen 55+ im Bergischen Land (27121100B) 
LOCATION:Burscheid; Pastor-Löh-Haus; Raum 8, Höhestr. 48, 51399 Burscheid
END:VEVENT
BEGIN:VEVENT
DTSTAMP:20260420T235636
DTSTART;TZID=Europe/Berlin:20270903T090000
DTEND;TZID=Europe/Berlin:20270903T160000
UID:27121100B-20270903T090000@VHSBERGISCH-LAND
SUMMARY:Bildungsurlaub: Neue Perspektiven - Wandercoaching für Menschen 55+ im Bergischen Land (27121100B) 
LOCATION:Burscheid; Pastor-Löh-Haus; Raum 8, Höhestr. 48, 51399 Burscheid
END:VEVENT
END:VCALENDAR