BEGIN:VCALENDAR
VERSION:2.0
PRODID:https://www.kufer.de/kuferweb / DE
METHOD:PUBLISH
CALSCALE:GREGORIAN
X-WR-TIMEZONE:Europe/Berlin
BEGIN:VTIMEZONE
TZID:Europe/Berlin
X-LIC-LOCATION:Europe/Berlin
BEGIN:DAYLIGHT
TZOFFSETFROM:+0100
TZOFFSETTO:+0200
TZNAME:CEST
DTSTART:19700329T020000
RRULE:FREQ=YEARLY;INTERVAL=1;BYDAY=-1SU;BYMONTH=3
END:DAYLIGHT
BEGIN:STANDARD
TZOFFSETFROM:+0200
TZOFFSETTO:+0100
TZNAME:CET
DTSTART:19701025T030000
RRULE:FREQ=YEARLY;INTERVAL=1;BYDAY=-1SU;BYMONTH=10
END:STANDARD
END:VTIMEZONE
BEGIN:VEVENT
DTSTAMP:20260421T095012
DTSTART;TZID=Europe/Berlin:20261026T090000
DTEND;TZID=Europe/Berlin:20261026T163000
UID:26233420B-20261026T090000@VHSBERGISCH-LAND
SUMMARY:Bildungsurlaub: Französisch lernen, erleben und genießen – ein interaktiver Wochenkurs mit Kochen, Musik, Kunst und Kultur. (26233420B) 
LOCATION:Wermelskirchen; VHS-Zentrale; Raum B3.02, Schillerstraße 9, 42929 Wermelskirchen
END:VEVENT
BEGIN:VEVENT
DTSTAMP:20260421T095012
DTSTART;TZID=Europe/Berlin:20261027T090000
DTEND;TZID=Europe/Berlin:20261027T163000
UID:26233420B-20261027T090000@VHSBERGISCH-LAND
SUMMARY:Bildungsurlaub: Französisch lernen, erleben und genießen – ein interaktiver Wochenkurs mit Kochen, Musik, Kunst und Kultur. (26233420B) 
LOCATION:Wermelskirchen; VHS-Zentrale; Raum B3.02, Schillerstraße 9, 42929 Wermelskirchen
END:VEVENT
BEGIN:VEVENT
DTSTAMP:20260421T095012
DTSTART;TZID=Europe/Berlin:20261028T090000
DTEND;TZID=Europe/Berlin:20261028T163000
UID:26233420B-20261028T090000@VHSBERGISCH-LAND
SUMMARY:Bildungsurlaub: Französisch lernen, erleben und genießen – ein interaktiver Wochenkurs mit Kochen, Musik, Kunst und Kultur. (26233420B) 
LOCATION:Wermelskirchen; VHS-Zentrale; Raum B3.02, Schillerstraße 9, 42929 Wermelskirchen
END:VEVENT
BEGIN:VEVENT
DTSTAMP:20260421T095012
DTSTART;TZID=Europe/Berlin:20261029T090000
DTEND;TZID=Europe/Berlin:20261029T163000
UID:26233420B-20261029T090000@VHSBERGISCH-LAND
SUMMARY:Bildungsurlaub: Französisch lernen, erleben und genießen – ein interaktiver Wochenkurs mit Kochen, Musik, Kunst und Kultur. (26233420B) 
LOCATION:Wermelskirchen; VHS-Zentrale; Raum B3.02, Schillerstraße 9, 42929 Wermelskirchen
END:VEVENT
BEGIN:VEVENT
DTSTAMP:20260421T095012
DTSTART;TZID=Europe/Berlin:20261030T090000
DTEND;TZID=Europe/Berlin:20261030T163000
UID:26233420B-20261030T090000@VHSBERGISCH-LAND
SUMMARY:Bildungsurlaub: Französisch lernen, erleben und genießen – ein interaktiver Wochenkurs mit Kochen, Musik, Kunst und Kultur. (26233420B) 
LOCATION:Wermelskirchen; VHS-Zentrale; Raum B3.02, Schillerstraße 9, 42929 Wermelskirchen
END:VEVENT
END:VCALENDAR