BEGIN:VCALENDAR
VERSION:2.0
PRODID:https://www.kufer.de/kuferweb / DE
METHOD:PUBLISH
CALSCALE:GREGORIAN
X-WR-TIMEZONE:Europe/Berlin
BEGIN:VTIMEZONE
TZID:Europe/Berlin
X-LIC-LOCATION:Europe/Berlin
BEGIN:DAYLIGHT
TZOFFSETFROM:+0100
TZOFFSETTO:+0200
TZNAME:CEST
DTSTART:19700329T020000
RRULE:FREQ=YEARLY;INTERVAL=1;BYDAY=-1SU;BYMONTH=3
END:DAYLIGHT
BEGIN:STANDARD
TZOFFSETFROM:+0200
TZOFFSETTO:+0100
TZNAME:CET
DTSTART:19701025T030000
RRULE:FREQ=YEARLY;INTERVAL=1;BYDAY=-1SU;BYMONTH=10
END:STANDARD
END:VTIMEZONE
BEGIN:VEVENT
DTSTAMP:20260423T144457
DTSTART;TZID=Europe/Berlin:20260710T083000
DTEND;TZID=Europe/Berlin:20260710T123500
UID:26231209-20260710T083000@VHSBERGISCH-LAND
SUMMARY:Integrationskurs mit Alphabetisierung - Orientierungskurs (26231209) 
LOCATION:Leichlingen; ev. Pflegeakademie Hasensprungmühle, Raum 2, Hasensprung 3 , 42799 Leichlingen
END:VEVENT
BEGIN:VEVENT
DTSTAMP:20260423T144457
DTSTART;TZID=Europe/Berlin:20260713T083000
DTEND;TZID=Europe/Berlin:20260713T123500
UID:26231209-20260713T083000@VHSBERGISCH-LAND
SUMMARY:Integrationskurs mit Alphabetisierung - Orientierungskurs (26231209) 
LOCATION:Leichlingen; ev. Pflegeakademie Hasensprungmühle, Raum 2, Hasensprung 3 , 42799 Leichlingen
END:VEVENT
BEGIN:VEVENT
DTSTAMP:20260423T144457
DTSTART;TZID=Europe/Berlin:20260714T083000
DTEND;TZID=Europe/Berlin:20260714T123500
UID:26231209-20260714T083000@VHSBERGISCH-LAND
SUMMARY:Integrationskurs mit Alphabetisierung - Orientierungskurs (26231209) 
LOCATION:Leichlingen; ev. Pflegeakademie Hasensprungmühle, Raum 2, Hasensprung 3 , 42799 Leichlingen
END:VEVENT
BEGIN:VEVENT
DTSTAMP:20260423T144457
DTSTART;TZID=Europe/Berlin:20260716T083000
DTEND;TZID=Europe/Berlin:20260716T123500
UID:26231209-20260716T083000@VHSBERGISCH-LAND
SUMMARY:Integrationskurs mit Alphabetisierung - Orientierungskurs (26231209) 
LOCATION:Leichlingen; ev. Pflegeakademie Hasensprungmühle, Raum 2, Hasensprung 3 , 42799 Leichlingen
END:VEVENT
BEGIN:VEVENT
DTSTAMP:20260423T144457
DTSTART;TZID=Europe/Berlin:20260717T083000
DTEND;TZID=Europe/Berlin:20260717T123500
UID:26231209-20260717T083000@VHSBERGISCH-LAND
SUMMARY:Integrationskurs mit Alphabetisierung - Orientierungskurs (26231209) 
LOCATION:Leichlingen; ev. Pflegeakademie Hasensprungmühle, Raum 2, Hasensprung 3 , 42799 Leichlingen
END:VEVENT
BEGIN:VEVENT
DTSTAMP:20260423T144457
DTSTART;TZID=Europe/Berlin:20260903T083000
DTEND;TZID=Europe/Berlin:20260903T123500
UID:26231209-20260903T083000@VHSBERGISCH-LAND
SUMMARY:Integrationskurs mit Alphabetisierung - Orientierungskurs (26231209) 
LOCATION:Leichlingen; ev. Pflegeakademie Hasensprungmühle, Raum 2, Hasensprung 3 , 42799 Leichlingen
END:VEVENT
BEGIN:VEVENT
DTSTAMP:20260423T144457
DTSTART;TZID=Europe/Berlin:20260904T083000
DTEND;TZID=Europe/Berlin:20260904T123500
UID:26231209-20260904T083000@VHSBERGISCH-LAND
SUMMARY:Integrationskurs mit Alphabetisierung - Orientierungskurs (26231209) 
LOCATION:Leichlingen; ev. Pflegeakademie Hasensprungmühle, Raum 2, Hasensprung 3 , 42799 Leichlingen
END:VEVENT
BEGIN:VEVENT
DTSTAMP:20260423T144457
DTSTART;TZID=Europe/Berlin:20260907T083000
DTEND;TZID=Europe/Berlin:20260907T123500
UID:26231209-20260907T083000@VHSBERGISCH-LAND
SUMMARY:Integrationskurs mit Alphabetisierung - Orientierungskurs (26231209) 
LOCATION:Leichlingen; ev. Pflegeakademie Hasensprungmühle, Raum 2, Hasensprung 3 , 42799 Leichlingen
END:VEVENT
BEGIN:VEVENT
DTSTAMP:20260423T144457
DTSTART;TZID=Europe/Berlin:20260908T083000
DTEND;TZID=Europe/Berlin:20260908T123500
UID:26231209-20260908T083000@VHSBERGISCH-LAND
SUMMARY:Integrationskurs mit Alphabetisierung - Orientierungskurs (26231209) 
LOCATION:Leichlingen; ev. Pflegeakademie Hasensprungmühle, Raum 2, Hasensprung 3 , 42799 Leichlingen
END:VEVENT
BEGIN:VEVENT
DTSTAMP:20260423T144457
DTSTART;TZID=Europe/Berlin:20260910T083000
DTEND;TZID=Europe/Berlin:20260910T123500
UID:26231209-20260910T083000@VHSBERGISCH-LAND
SUMMARY:Integrationskurs mit Alphabetisierung - Orientierungskurs (26231209) 
LOCATION:Leichlingen; ev. Pflegeakademie Hasensprungmühle, Raum 2, Hasensprung 3 , 42799 Leichlingen
END:VEVENT
BEGIN:VEVENT
DTSTAMP:20260423T144457
DTSTART;TZID=Europe/Berlin:20260911T083000
DTEND;TZID=Europe/Berlin:20260911T123500
UID:26231209-20260911T083000@VHSBERGISCH-LAND
SUMMARY:Integrationskurs mit Alphabetisierung - Orientierungskurs (26231209) 
LOCATION:Leichlingen; ev. Pflegeakademie Hasensprungmühle, Raum 2, Hasensprung 3 , 42799 Leichlingen
END:VEVENT
BEGIN:VEVENT
DTSTAMP:20260423T144457
DTSTART;TZID=Europe/Berlin:20260914T083000
DTEND;TZID=Europe/Berlin:20260914T123500
UID:26231209-20260914T083000@VHSBERGISCH-LAND
SUMMARY:Integrationskurs mit Alphabetisierung - Orientierungskurs (26231209) 
LOCATION:Leichlingen; ev. Pflegeakademie Hasensprungmühle, Raum 2, Hasensprung 3 , 42799 Leichlingen
END:VEVENT
BEGIN:VEVENT
DTSTAMP:20260423T144457
DTSTART;TZID=Europe/Berlin:20260915T083000
DTEND;TZID=Europe/Berlin:20260915T123500
UID:26231209-20260915T083000@VHSBERGISCH-LAND
SUMMARY:Integrationskurs mit Alphabetisierung - Orientierungskurs (26231209) 
LOCATION:Leichlingen; ev. Pflegeakademie Hasensprungmühle, Raum 2, Hasensprung 3 , 42799 Leichlingen
END:VEVENT
BEGIN:VEVENT
DTSTAMP:20260423T144457
DTSTART;TZID=Europe/Berlin:20260917T083000
DTEND;TZID=Europe/Berlin:20260917T123500
UID:26231209-20260917T083000@VHSBERGISCH-LAND
SUMMARY:Integrationskurs mit Alphabetisierung - Orientierungskurs (26231209) 
LOCATION:Leichlingen; ev. Pflegeakademie Hasensprungmühle, Raum 2, Hasensprung 3 , 42799 Leichlingen
END:VEVENT
BEGIN:VEVENT
DTSTAMP:20260423T144457
DTSTART;TZID=Europe/Berlin:20260918T083000
DTEND;TZID=Europe/Berlin:20260918T123500
UID:26231209-20260918T083000@VHSBERGISCH-LAND
SUMMARY:Integrationskurs mit Alphabetisierung - Orientierungskurs (26231209) 
LOCATION:Leichlingen; ev. Pflegeakademie Hasensprungmühle, Raum 2, Hasensprung 3 , 42799 Leichlingen
END:VEVENT
BEGIN:VEVENT
DTSTAMP:20260423T144457
DTSTART;TZID=Europe/Berlin:20260921T083000
DTEND;TZID=Europe/Berlin:20260921T123500
UID:26231209-20260921T083000@VHSBERGISCH-LAND
SUMMARY:Integrationskurs mit Alphabetisierung - Orientierungskurs (26231209) 
LOCATION:Leichlingen; ev. Pflegeakademie Hasensprungmühle, Raum 2, Hasensprung 3 , 42799 Leichlingen
END:VEVENT
BEGIN:VEVENT
DTSTAMP:20260423T144457
DTSTART;TZID=Europe/Berlin:20260922T083000
DTEND;TZID=Europe/Berlin:20260922T123500
UID:26231209-20260922T083000@VHSBERGISCH-LAND
SUMMARY:Integrationskurs mit Alphabetisierung - Orientierungskurs (26231209) 
LOCATION:Leichlingen; ev. Pflegeakademie Hasensprungmühle, Raum 2, Hasensprung 3 , 42799 Leichlingen
END:VEVENT
BEGIN:VEVENT
DTSTAMP:20260423T144457
DTSTART;TZID=Europe/Berlin:20260924T083000
DTEND;TZID=Europe/Berlin:20260924T123500
UID:26231209-20260924T083000@VHSBERGISCH-LAND
SUMMARY:Integrationskurs mit Alphabetisierung - Orientierungskurs (26231209) 
LOCATION:Leichlingen; ev. Pflegeakademie Hasensprungmühle, Raum 2, Hasensprung 3 , 42799 Leichlingen
END:VEVENT
BEGIN:VEVENT
DTSTAMP:20260423T144457
DTSTART;TZID=Europe/Berlin:20260925T083000
DTEND;TZID=Europe/Berlin:20260925T123500
UID:26231209-20260925T083000@VHSBERGISCH-LAND
SUMMARY:Integrationskurs mit Alphabetisierung - Orientierungskurs (26231209) 
LOCATION:Leichlingen; ev. Pflegeakademie Hasensprungmühle, Raum 2, Hasensprung 3 , 42799 Leichlingen
END:VEVENT
BEGIN:VEVENT
DTSTAMP:20260423T144457
DTSTART;TZID=Europe/Berlin:20260928T083000
DTEND;TZID=Europe/Berlin:20260928T123500
UID:26231209-20260928T083000@VHSBERGISCH-LAND
SUMMARY:Integrationskurs mit Alphabetisierung - Orientierungskurs (26231209) 
LOCATION:Leichlingen; ev. Pflegeakademie Hasensprungmühle, Raum 2, Hasensprung 3 , 42799 Leichlingen
END:VEVENT
END:VCALENDAR