BEGIN:VCALENDAR
VERSION:2.0
PRODID:https://www.kufer.de/kuferweb / DE
METHOD:PUBLISH
CALSCALE:GREGORIAN
X-WR-TIMEZONE:Europe/Berlin
BEGIN:VTIMEZONE
TZID:Europe/Berlin
X-LIC-LOCATION:Europe/Berlin
BEGIN:DAYLIGHT
TZOFFSETFROM:+0100
TZOFFSETTO:+0200
TZNAME:CEST
DTSTART:19700329T020000
RRULE:FREQ=YEARLY;INTERVAL=1;BYDAY=-1SU;BYMONTH=3
END:DAYLIGHT
BEGIN:STANDARD
TZOFFSETFROM:+0200
TZOFFSETTO:+0100
TZNAME:CET
DTSTART:19701025T030000
RRULE:FREQ=YEARLY;INTERVAL=1;BYDAY=-1SU;BYMONTH=10
END:STANDARD
END:VTIMEZONE
BEGIN:VEVENT
DTSTAMP:20260422T035959
DTSTART;TZID=Europe/Berlin:20260824T100000
DTEND;TZID=Europe/Berlin:20260824T130000
UID:26215010-20260824T100000@VHSBERGISCH-LAND
SUMMARY:lokale Klimamacher*innen - mehr wissen und mitdiskutieren können Sommerakademie (26215010) 
LOCATION:Burscheid; Kramerhaus, Hauptstr. 42, 51399 Burscheid
END:VEVENT
BEGIN:VEVENT
DTSTAMP:20260422T035959
DTSTART;TZID=Europe/Berlin:20260825T100000
DTEND;TZID=Europe/Berlin:20260825T130000
UID:26215010-20260825T100000@VHSBERGISCH-LAND
SUMMARY:lokale Klimamacher*innen - mehr wissen und mitdiskutieren können Sommerakademie (26215010) 
LOCATION:Burscheid; Kramerhaus, Hauptstr. 42, 51399 Burscheid
END:VEVENT
BEGIN:VEVENT
DTSTAMP:20260422T035959
DTSTART;TZID=Europe/Berlin:20260826T100000
DTEND;TZID=Europe/Berlin:20260826T130000
UID:26215010-20260826T100000@VHSBERGISCH-LAND
SUMMARY:lokale Klimamacher*innen - mehr wissen und mitdiskutieren können Sommerakademie (26215010) 
LOCATION:Burscheid; Kramerhaus, Hauptstr. 42, 51399 Burscheid
END:VEVENT
BEGIN:VEVENT
DTSTAMP:20260422T035959
DTSTART;TZID=Europe/Berlin:20260827T100000
DTEND;TZID=Europe/Berlin:20260827T130000
UID:26215010-20260827T100000@VHSBERGISCH-LAND
SUMMARY:lokale Klimamacher*innen - mehr wissen und mitdiskutieren können Sommerakademie (26215010) 
LOCATION:Burscheid; Kramerhaus, Hauptstr. 42, 51399 Burscheid
END:VEVENT
BEGIN:VEVENT
DTSTAMP:20260422T035959
DTSTART;TZID=Europe/Berlin:20260828T100000
DTEND;TZID=Europe/Berlin:20260828T130000
UID:26215010-20260828T100000@VHSBERGISCH-LAND
SUMMARY:lokale Klimamacher*innen - mehr wissen und mitdiskutieren können Sommerakademie (26215010) 
LOCATION:Burscheid; Kramerhaus, Hauptstr. 42, 51399 Burscheid
END:VEVENT
END:VCALENDAR